BEGIN:VCALENDAR
VERSION:2.0
PRODID:-//Upper Water - ECPv6.15.12.2//NONSGML v1.0//EN
CALSCALE:GREGORIAN
METHOD:PUBLISH
X-WR-CALNAME:Upper Water
X-ORIGINAL-URL:https://upperwater.org
X-WR-CALDESC:Events for Upper Water
REFRESH-INTERVAL;VALUE=DURATION:PT1H
X-Robots-Tag:noindex
X-PUBLISHED-TTL:PT1H
BEGIN:VTIMEZONE
TZID:UTC
BEGIN:STANDARD
TZOFFSETFROM:+0000
TZOFFSETTO:+0000
TZNAME:UTC
DTSTART:20250101T000000
END:STANDARD
END:VTIMEZONE
BEGIN:VEVENT
DTSTART;TZID=UTC:20260422T163000
DTEND;TZID=UTC:20260422T173000
DTSTAMP:20260422T022253
CREATED:20260325T214441Z
LAST-MODIFIED:20260417T181812Z
UID:48552-1776875400-1776879000@upperwater.org
SUMMARY:Cancelled: Board of Directors Meeting 4/22/2026
DESCRIPTION:
URL:https://upperwater.org/event/board-of-directors-meeting-4-22-2026/
LOCATION:248 E. Foothill Blvd. Ste 100 Monrovia\, CA 91016\, 248 E Foothill Blvd Ste 100\, Monrovia\, CA\, 91016-2250\, United States
CATEGORIES:Event
END:VEVENT
BEGIN:VEVENT
DTSTART;VALUE=DATE:20260424
DTEND;VALUE=DATE:20260425
DTSTAMP:20260422T022253
CREATED:20251205T223431Z
LAST-MODIFIED:20251205T225946Z
UID:48010-1776988800-1777075199@upperwater.org
SUMMARY:District Office Closed April 24
DESCRIPTION:Our Offices will be closed all day April 24\, 2026.
URL:https://upperwater.org/event/district-office-closed-april-24/
LOCATION:CA
CATEGORIES:Office Closed
END:VEVENT
BEGIN:VEVENT
DTSTART;TZID=UTC:20260502T100000
DTEND;TZID=UTC:20260502T140000
DTSTAMP:20260422T022253
CREATED:20260129T182510Z
LAST-MODIFIED:20260129T182510Z
UID:48344-1777716000-1777730400@upperwater.org
SUMMARY:WaterFest
DESCRIPTION:Event Details: WaterFest is an annual community festival that features interactive educational booths\, environmental displays\, informative presentations and resources\, free water-saving materials\, and more. This free one-day event highlights water as a precious resource and the importance of conservation. Upper Water has partnered with the Los Angeles County Department of Parks and Recreation for over 17 years to provide an enjoyable and family fun filled event for all ages. \nDate: Saturday\, May 2\, 2026 | Time: 10:00 a.m.-2:00 p.m.\nLocation: Arcadia Community Regional Park – 405 S. Santa Anita Ave. Arcadia\, CA 91007 \nFor more information\, please visit: https://upperwater.org/waterfest-3/
URL:https://upperwater.org/event/waterfest/
LOCATION:405 S. Santa Anita Ave. Arcadia\, CA 91007\, 405 S. Santa Anita Ave.\, Arcadia\, 91007\, United States
CATEGORIES:Event
END:VEVENT
BEGIN:VEVENT
DTSTART;TZID=UTC:20260504T163000
DTEND;TZID=UTC:20260504T173000
DTSTAMP:20260422T022253
CREATED:20260330T153325Z
LAST-MODIFIED:20260409T200254Z
UID:48580-1777912200-1777915800@upperwater.org
SUMMARY:Cancelled: Water Resources and Facility Management Committee Meeting
DESCRIPTION:
URL:https://upperwater.org/event/water-resources-and-facility-management-committee-meeting-3/
LOCATION:248 E. Foothill Blvd. Ste 100 Monrovia\, CA 91016\, 248 E Foothill Blvd Ste 100\, Monrovia\, CA\, 91016-2250\, United States
CATEGORIES:Event
END:VEVENT
BEGIN:VEVENT
DTSTART;TZID=UTC:20260505T163000
DTEND;TZID=UTC:20260505T173000
DTSTAMP:20260422T022253
CREATED:20260409T200451Z
LAST-MODIFIED:20260409T200451Z
UID:48634-1777998600-1778002200@upperwater.org
SUMMARY:Canceled: Administration & Finance Committee Meeting
DESCRIPTION:
URL:https://upperwater.org/event/canceled-administration-finance-committee-meeting-2/
LOCATION:248 E. Foothill Blvd. Ste 100 Monrovia\, CA 91016\, 248 E Foothill Blvd Ste 100\, Monrovia\, CA\, 91016-2250\, United States
CATEGORIES:Event
END:VEVENT
BEGIN:VEVENT
DTSTART;TZID=UTC:20260506T163000
DTEND;TZID=UTC:20260506T173000
DTSTAMP:20260422T022253
CREATED:20260409T200648Z
LAST-MODIFIED:20260409T201321Z
UID:48636-1778085000-1778088600@upperwater.org
SUMMARY:Canceled: Government Affairs and Community Outreach Committee Meeting
DESCRIPTION:
URL:https://upperwater.org/event/canceled-government-affairs-and-community-outreach-committee-meeting-2/
LOCATION:248 E. Foothill Blvd. Ste 100 Monrovia\, CA 91016\, 248 E Foothill Blvd Ste 100\, Monrovia\, CA\, 91016-2250\, United States
CATEGORIES:Event
END:VEVENT
BEGIN:VEVENT
DTSTART;VALUE=DATE:20260508
DTEND;VALUE=DATE:20260509
DTSTAMP:20260422T022253
CREATED:20251205T223023Z
LAST-MODIFIED:20251205T230016Z
UID:47998-1778198400-1778284799@upperwater.org
SUMMARY:District Office Closed May 8
DESCRIPTION:Our Offices will be closed all day May 8\, 2026.
URL:https://upperwater.org/event/district-office-closed-may-8/
LOCATION:CA
CATEGORIES:Office Closed
END:VEVENT
BEGIN:VEVENT
DTSTART;TZID=UTC:20260513T163000
DTEND;TZID=UTC:20260513T173000
DTSTAMP:20260422T022253
CREATED:20260417T182242Z
LAST-MODIFIED:20260417T182242Z
UID:48681-1778689800-1778693400@upperwater.org
SUMMARY:Board of Directors Meeting 5/13/2026
DESCRIPTION:
URL:https://upperwater.org/event/board-of-directors-meeting-5-13-2026/
LOCATION:248 E. Foothill Blvd. Ste 100 Monrovia\, CA 91016\, 248 E Foothill Blvd Ste 100\, Monrovia\, CA\, 91016-2250\, United States
CATEGORIES:Event
END:VEVENT
BEGIN:VEVENT
DTSTART;VALUE=DATE:20260522
DTEND;VALUE=DATE:20260523
DTSTAMP:20260422T022253
CREATED:20251205T223117Z
LAST-MODIFIED:20251205T230045Z
UID:48001-1779408000-1779494399@upperwater.org
SUMMARY:District Office Closed May 22
DESCRIPTION:Our Offices will be closed all day May 22\, 2026.
URL:https://upperwater.org/event/district-office-closed-may-22/
LOCATION:CA
CATEGORIES:Office Closed
END:VEVENT
BEGIN:VEVENT
DTSTART;VALUE=DATE:20260605
DTEND;VALUE=DATE:20260606
DTSTAMP:20260422T022253
CREATED:20251205T223224Z
LAST-MODIFIED:20251205T230123Z
UID:48004-1780617600-1780703999@upperwater.org
SUMMARY:District Office Closed June 5
DESCRIPTION:Our Offices will be closed all day June 5\, 2026.
URL:https://upperwater.org/event/district-office-closed-june-5/
LOCATION:CA
CATEGORIES:Office Closed
END:VEVENT
END:VCALENDAR